BEGIN:VCALENDAR
VERSION:2.0
PRODID:-//NGSPB – Natural Gas Society of the Permian Basin - ECPv6.15.20//NONSGML v1.0//EN
CALSCALE:GREGORIAN
METHOD:PUBLISH
X-WR-CALNAME:NGSPB – Natural Gas Society of the Permian Basin
X-ORIGINAL-URL:https://ngspb.com
X-WR-CALDESC:Events for NGSPB – Natural Gas Society of the Permian Basin
REFRESH-INTERVAL;VALUE=DURATION:PT1H
X-Robots-Tag:noindex
X-PUBLISHED-TTL:PT1H
BEGIN:VTIMEZONE
TZID:America/Chicago
BEGIN:DAYLIGHT
TZOFFSETFROM:-0600
TZOFFSETTO:-0500
TZNAME:CDT
DTSTART:20170312T080000
END:DAYLIGHT
BEGIN:STANDARD
TZOFFSETFROM:-0500
TZOFFSETTO:-0600
TZNAME:CST
DTSTART:20171105T070000
END:STANDARD
BEGIN:DAYLIGHT
TZOFFSETFROM:-0600
TZOFFSETTO:-0500
TZNAME:CDT
DTSTART:20180311T080000
END:DAYLIGHT
BEGIN:STANDARD
TZOFFSETFROM:-0500
TZOFFSETTO:-0600
TZNAME:CST
DTSTART:20181104T070000
END:STANDARD
BEGIN:DAYLIGHT
TZOFFSETFROM:-0600
TZOFFSETTO:-0500
TZNAME:CDT
DTSTART:20190310T080000
END:DAYLIGHT
BEGIN:STANDARD
TZOFFSETFROM:-0500
TZOFFSETTO:-0600
TZNAME:CST
DTSTART:20191103T070000
END:STANDARD
END:VTIMEZONE
BEGIN:VEVENT
DTSTART;TZID=America/Chicago:20180109T113000
DTEND;TZID=America/Chicago:20180109T130000
DTSTAMP:20260422T171916
CREATED:20171018T235243Z
LAST-MODIFIED:20171018T235243Z
UID:1464-1515497400-1515502800@ngspb.com
SUMMARY:NGSPB - January Luncheon
DESCRIPTION:NGSPB hosts special guest speaker Patrick Walker\, Co-founder of 1804 Operating and CEO of Goodnight Midstream.  Patrick will talk about the evolution of water in the midstream space and how important it is for Permian operators. We hope you will be able to join us! \nDate: Tuesday\, January 9th \nTime: 11:30am – 1:00pm \nLocation: Midland Petroleum Club \nSpeaker: Patrick Walker \nCost: $35 members and $40 for guests (credit cards and cash accepted) \nRSVP to info@ngspb.com or through the website. \nBio – Patrick Walker \nPatrick is the CEO of Goodnight Midstream and Co-founder of 1804 Operating.  Previously co-founder of RKM Energy Partners\, a small energy-focused private equity firm with interests in Texas\, California\, and Alberta\, Canada. Patrick also serves as an executive of Eagle Exploration\, a family-owned independent operator in the Texas Panhandle.  Patrick holds a BA from the University of Texas and an MBA from Stanford University.
URL:https://ngspb.com/event/ngspb-january-luncheon/
LOCATION:Midland Petroleum Club\, 501 W Wall St\, Midland\, TX\, 79701\, United States
END:VEVENT
END:VCALENDAR