BEGIN:VCALENDAR
VERSION:2.0
PRODID:-//NGSPB – Natural Gas Society of the Permian Basin - ECPv6.15.20//NONSGML v1.0//EN
CALSCALE:GREGORIAN
METHOD:PUBLISH
X-ORIGINAL-URL:https://ngspb.com
X-WR-CALDESC:Events for NGSPB – Natural Gas Society of the Permian Basin
REFRESH-INTERVAL;VALUE=DURATION:PT1H
X-Robots-Tag:noindex
X-PUBLISHED-TTL:PT1H
BEGIN:VTIMEZONE
TZID:America/Chicago
BEGIN:DAYLIGHT
TZOFFSETFROM:-0600
TZOFFSETTO:-0500
TZNAME:CDT
DTSTART:20170312T080000
END:DAYLIGHT
BEGIN:STANDARD
TZOFFSETFROM:-0500
TZOFFSETTO:-0600
TZNAME:CST
DTSTART:20171105T070000
END:STANDARD
BEGIN:DAYLIGHT
TZOFFSETFROM:-0600
TZOFFSETTO:-0500
TZNAME:CDT
DTSTART:20180311T080000
END:DAYLIGHT
BEGIN:STANDARD
TZOFFSETFROM:-0500
TZOFFSETTO:-0600
TZNAME:CST
DTSTART:20181104T070000
END:STANDARD
BEGIN:DAYLIGHT
TZOFFSETFROM:-0600
TZOFFSETTO:-0500
TZNAME:CDT
DTSTART:20190310T080000
END:DAYLIGHT
BEGIN:STANDARD
TZOFFSETFROM:-0500
TZOFFSETTO:-0600
TZNAME:CST
DTSTART:20191103T070000
END:STANDARD
END:VTIMEZONE
BEGIN:VEVENT
DTSTART;TZID=America/Chicago:20180320T113000
DTEND;TZID=America/Chicago:20180320T130000
DTSTAMP:20260422T141746
CREATED:20180129T234305Z
LAST-MODIFIED:20180129T234338Z
UID:1865-1521545400-1521550800@ngspb.com
SUMMARY:NGSPB - March Luncheon
DESCRIPTION:NGSPB hosts special guest speaker Jason Stockstill\, Marketing Manager for Dawson Geophysical and General Manager for EagleEye Geospatial.  Jason will talk about geospatial intelligence and how the use of UAV technology improves efficiency across the oil and gas industry. We hope you will be able to join us! \nDate: Tuesday\, March 20th \nTime: 11:30am – 1:00pm \nLocation: Midland Petroleum Club \nSpeaker: Jason Stockstill \nCost: $35 members and $40 for guests (credit cards and cash accepted) \nRSVP to info@ngspb.com or through the website. \nBio – Jason Stockstill \nJason Stockstill is the current Marketing Manager for Dawson Geophysical and serves as the General Manager for EagleEye Geospatial\, a UAV focused subsidiary company to Dawson Geophysical.  Jason is originally from Weatherford\, Texas and attended Texas Tech University where he received a Bachelor of Science degree in 2000 and a Master of Science degree in 2002.  With a strong management background\, Jason has found himself in various roles of leadership within Dawson\, along with his current appointment within EagleEye\, in an effort to grow the value and business opportunities that both seismic data and geospatial intelligence can provide to the Oil and Gas industry. \nJason currently serves as President of the Permian Basin Geophysical Society.  He also serves as a board member for the Northern Little League Association\, a school board member at Midland Christian School\, a deacon at his church\, and is heavily involved in the coaching of youth sports.  He is married to his wife\, Holli\, and has two sons aged 10 and 5.  He is a member of the SEG\, AAPG and several additional professional societies.  Jason enjoys sports\, hunting\, spending time with his family\, and Texas Tech athletics. \n 
URL:https://ngspb.com/event/ngspb-march-luncheon/
LOCATION:Midland Petroleum Club\, 501 W Wall St\, Midland\, TX\, 79701\, United States
END:VEVENT
END:VCALENDAR