BEGIN:VCALENDAR
VERSION:2.0
PRODID:-//NGSPB – Natural Gas Society of the Permian Basin - ECPv6.15.20//NONSGML v1.0//EN
CALSCALE:GREGORIAN
METHOD:PUBLISH
X-WR-CALNAME:NGSPB – Natural Gas Society of the Permian Basin
X-ORIGINAL-URL:https://ngspb.com
X-WR-CALDESC:Events for NGSPB – Natural Gas Society of the Permian Basin
REFRESH-INTERVAL;VALUE=DURATION:PT1H
X-Robots-Tag:noindex
X-PUBLISHED-TTL:PT1H
BEGIN:VTIMEZONE
TZID:America/Chicago
BEGIN:DAYLIGHT
TZOFFSETFROM:-0600
TZOFFSETTO:-0500
TZNAME:CDT
DTSTART:20180311T080000
END:DAYLIGHT
BEGIN:STANDARD
TZOFFSETFROM:-0500
TZOFFSETTO:-0600
TZNAME:CST
DTSTART:20181104T070000
END:STANDARD
BEGIN:DAYLIGHT
TZOFFSETFROM:-0600
TZOFFSETTO:-0500
TZNAME:CDT
DTSTART:20190310T080000
END:DAYLIGHT
BEGIN:STANDARD
TZOFFSETFROM:-0500
TZOFFSETTO:-0600
TZNAME:CST
DTSTART:20191103T070000
END:STANDARD
BEGIN:DAYLIGHT
TZOFFSETFROM:-0600
TZOFFSETTO:-0500
TZNAME:CDT
DTSTART:20200308T080000
END:DAYLIGHT
BEGIN:STANDARD
TZOFFSETFROM:-0500
TZOFFSETTO:-0600
TZNAME:CST
DTSTART:20201101T070000
END:STANDARD
END:VTIMEZONE
BEGIN:VEVENT
DTSTART;TZID=America/Chicago:20190319T113000
DTEND;TZID=America/Chicago:20190319T130000
DTSTAMP:20260421T191642
CREATED:20190306T232814Z
LAST-MODIFIED:20190307T224927Z
UID:2589-1552995000-1553000400@ngspb.com
SUMMARY:NGSPB - March Luncheon
DESCRIPTION:NGSPB hosts special guest speaker Scott Potter\, Managing Director of RBN Energy. The title of Mr. Potter’s presentation is “Permian Natural Gas – Where is it going to go?” \nDate: Tuesday\, March 19th \nTime: 11:30am – 1:00pm \nLocation: Midland Petroleum Club \nSpeaker: Scott Potter \nCost: $35 members and $40 for guests (credit cards and cash accepted) \nRSVP to info@ngspb.com or through the website. \nBio – Scott Potter \nScott M. Potter is Director of Business Development and a Senior Consultant with RBN Energy\, LLC\, based in Houston\, TX. Mr. Potter brings over thirty years of experience in the oil & gas industry\, with a primary focus on natural gas trading\, marketing and transportation\, as well as providing consulting services on a wide array of North American and international projects. \nMr. Potter began his career in the early 1980’s\, working for UPG\, Inc.\, Northern Natural Gas’ crude oil and condensate subsidiary. From there\, Mr. Potter co-founded Aquila Energy\, which developed into one of the industry’s leading marketers of natural gas. In the mid – 1990’s\, Mr. Potter joined Mr. Braziel as Texaco’s Natural Gas Vice President of Natural Gas Trading\, overseeing both short and long term natural gas marketing. Mr. Potter also spent time working with Mr. Braziel at Altra Energy\, leading a team responsible for delivering Altra software to international clients\, including Pemex\, Mexico’s state owned oil company. \nDuring his tenure with RBN\, Mr. Potter has participated in numerous consulting engagements focused on crude oil loading and receiving terminals (Canadian and domestic)\, natural gas and natural gas infrastructure (pipelines\, storage and gathering)\, and natural gas liquids. \nMr. Potter holds a Bachelor’s degree in Business from the University of Minnesota. \n 
URL:https://ngspb.com/event/ngspb-march-luncheon-2/
LOCATION:Midland Petroleum Club\, 501 W Wall St\, Midland\, TX\, 79701\, United States
END:VEVENT
END:VCALENDAR