BEGIN:VCALENDAR
VERSION:2.0
PRODID:-//NGSPB – Natural Gas Society of the Permian Basin - ECPv6.15.20//NONSGML v1.0//EN
CALSCALE:GREGORIAN
METHOD:PUBLISH
X-ORIGINAL-URL:https://ngspb.com
X-WR-CALDESC:Events for NGSPB – Natural Gas Society of the Permian Basin
REFRESH-INTERVAL;VALUE=DURATION:PT1H
X-Robots-Tag:noindex
X-PUBLISHED-TTL:PT1H
BEGIN:VTIMEZONE
TZID:America/Chicago
BEGIN:DAYLIGHT
TZOFFSETFROM:-0600
TZOFFSETTO:-0500
TZNAME:CDT
DTSTART:20180311T080000
END:DAYLIGHT
BEGIN:STANDARD
TZOFFSETFROM:-0500
TZOFFSETTO:-0600
TZNAME:CST
DTSTART:20181104T070000
END:STANDARD
BEGIN:DAYLIGHT
TZOFFSETFROM:-0600
TZOFFSETTO:-0500
TZNAME:CDT
DTSTART:20190310T080000
END:DAYLIGHT
BEGIN:STANDARD
TZOFFSETFROM:-0500
TZOFFSETTO:-0600
TZNAME:CST
DTSTART:20191103T070000
END:STANDARD
BEGIN:DAYLIGHT
TZOFFSETFROM:-0600
TZOFFSETTO:-0500
TZNAME:CDT
DTSTART:20200308T080000
END:DAYLIGHT
BEGIN:STANDARD
TZOFFSETFROM:-0500
TZOFFSETTO:-0600
TZNAME:CST
DTSTART:20201101T070000
END:STANDARD
END:VTIMEZONE
BEGIN:VEVENT
DTSTART;TZID=America/Chicago:20190507T083000
DTEND;TZID=America/Chicago:20190507T140000
DTSTAMP:20260421T161308
CREATED:20190203T233816Z
LAST-MODIFIED:20190204T175727Z
UID:2502-1557217800-1557237600@ngspb.com
SUMMARY:NGSPB Scholarship Golf Tournament
DESCRIPTION:NGSPB would like to announce its open enrollment for the annual NGSPB Scholarship Golf Tournament.  The shotgun-start and four-man scramble tournament begins at 8:30 AM. Lunch and prizes will be awarded immediately following play. \nPlease complete the registration form by Saturday April 27\, 2019. Payment can be made at the door or through the website. The registration form outlines all of our sponsorship opportunities\, which can be paid online upon request. Please address all questions and inquiries to Matt Schoolcraft at mschoolcraft@westtexasgas.com and cc info@ngspb.com. \nRegistration begins at 7:30 AM and the entry fee per player is $150.
URL:https://ngspb.com/event/ngspb-scholarship-golf-tournament-2/
LOCATION:Ranchland Hills Golf Club\, 1600 E Wadley Ave\, Midland\, TX\, 79705\, United States
END:VEVENT
END:VCALENDAR