BEGIN:VCALENDAR
VERSION:2.0
PRODID:-//NGSPB – Natural Gas Society of the Permian Basin - ECPv6.15.20//NONSGML v1.0//EN
CALSCALE:GREGORIAN
METHOD:PUBLISH
X-WR-CALNAME:NGSPB – Natural Gas Society of the Permian Basin
X-ORIGINAL-URL:https://ngspb.com
X-WR-CALDESC:Events for NGSPB – Natural Gas Society of the Permian Basin
REFRESH-INTERVAL;VALUE=DURATION:PT1H
X-Robots-Tag:noindex
X-PUBLISHED-TTL:PT1H
BEGIN:VTIMEZONE
TZID:America/Chicago
BEGIN:DAYLIGHT
TZOFFSETFROM:-0600
TZOFFSETTO:-0500
TZNAME:CDT
DTSTART:20190310T080000
END:DAYLIGHT
BEGIN:STANDARD
TZOFFSETFROM:-0500
TZOFFSETTO:-0600
TZNAME:CST
DTSTART:20191103T070000
END:STANDARD
BEGIN:DAYLIGHT
TZOFFSETFROM:-0600
TZOFFSETTO:-0500
TZNAME:CDT
DTSTART:20200308T080000
END:DAYLIGHT
BEGIN:STANDARD
TZOFFSETFROM:-0500
TZOFFSETTO:-0600
TZNAME:CST
DTSTART:20201101T070000
END:STANDARD
BEGIN:DAYLIGHT
TZOFFSETFROM:-0600
TZOFFSETTO:-0500
TZNAME:CDT
DTSTART:20210314T080000
END:DAYLIGHT
BEGIN:STANDARD
TZOFFSETFROM:-0500
TZOFFSETTO:-0600
TZNAME:CST
DTSTART:20211107T070000
END:STANDARD
END:VTIMEZONE
BEGIN:VEVENT
DTSTART;TZID=America/Chicago:20200811T113000
DTEND;TZID=America/Chicago:20200811T130000
DTSTAMP:20260420T180349
CREATED:20200514T191838Z
LAST-MODIFIED:20200514T191838Z
UID:9052-1597145400-1597150800@ngspb.com
SUMMARY:NGSPB - August Luncheon
DESCRIPTION:NGSPB to host a special guest speaker covering an energy related topic impacting the Permian Basin. \nDate: Tuesday\, August 11th \nTime: 11:30 am – 1:00 pm \nLocation: Midland Petroleum Club \nSpeaker: TBD \nCost: $35 for members and $40 for guests (credit cards and cash accepted) \nRSVP to naturalgassocietypb@gmail.com or through the website. \n 
URL:https://ngspb.com/event/ngspb-august-luncheon/
LOCATION:Midland Petroleum Club\, 501 W Wall St\, Midland\, TX\, 79701\, United States
END:VEVENT
END:VCALENDAR