BEGIN:VCALENDAR
VERSION:2.0
PRODID:-//NGSPB – Natural Gas Society of the Permian Basin - ECPv6.15.20//NONSGML v1.0//EN
CALSCALE:GREGORIAN
METHOD:PUBLISH
X-ORIGINAL-URL:https://ngspb.com
X-WR-CALDESC:Events for NGSPB – Natural Gas Society of the Permian Basin
REFRESH-INTERVAL;VALUE=DURATION:PT1H
X-Robots-Tag:noindex
X-PUBLISHED-TTL:PT1H
BEGIN:VTIMEZONE
TZID:America/Chicago
BEGIN:DAYLIGHT
TZOFFSETFROM:-0600
TZOFFSETTO:-0500
TZNAME:CDT
DTSTART:20190310T080000
END:DAYLIGHT
BEGIN:STANDARD
TZOFFSETFROM:-0500
TZOFFSETTO:-0600
TZNAME:CST
DTSTART:20191103T070000
END:STANDARD
BEGIN:DAYLIGHT
TZOFFSETFROM:-0600
TZOFFSETTO:-0500
TZNAME:CDT
DTSTART:20200308T080000
END:DAYLIGHT
BEGIN:STANDARD
TZOFFSETFROM:-0500
TZOFFSETTO:-0600
TZNAME:CST
DTSTART:20201101T070000
END:STANDARD
BEGIN:DAYLIGHT
TZOFFSETFROM:-0600
TZOFFSETTO:-0500
TZNAME:CDT
DTSTART:20210314T080000
END:DAYLIGHT
BEGIN:STANDARD
TZOFFSETFROM:-0500
TZOFFSETTO:-0600
TZNAME:CST
DTSTART:20211107T070000
END:STANDARD
END:VTIMEZONE
BEGIN:VEVENT
DTSTART;TZID=America/Chicago:20201013T113000
DTEND;TZID=America/Chicago:20201013T130000
DTSTAMP:20260420T152426
CREATED:20200514T191959Z
LAST-MODIFIED:20200922T020010Z
UID:9059-1602588600-1602594000@ngspb.com
SUMMARY:NGSPB - October Luncheon
DESCRIPTION:NGSPB hosts special guest speaker Brooks Landgraf\, State Representative serving District 81 since 2015. State Representative Brooks Landgraf serves West Texas in Andrews\, Ector\, Ward and Winkler counties in the Texas House of Representatives. \nDate: Tuesday\, October 13th  \nTime: 11:30 am – 1:00 pm \nLocation: Midland Petroleum Club \nSpeaker: State Representative Brooks Landgraf \nCost: $35 for members and $40 for guests (credit cards and cash accepted) \nRSVP to info@ngspb.com or through the website. \nBio – Brooks Landgraf \nState Representative Brooks Landgraf proudly serves his fellow West Texans in Andrews\, Ector\, Ward and Winkler counties in the Texas House of Representatives. Representative Landgraf currently serves as the vice chairman of the House Transportation Committee\, while also serving as a member of the House Business & Industry Committee and the House Select Committee on Mass Violence Prevention & Community Safety. In 2019\, Representative Landgraf was appointed to the Texas Commission on Judicial Selection. \nLandgraf is a native son of Odessa. His family has been ranching in West Texas for five generations\, and Brooks is active in managing the family’s business and ranching operations. Brooks is also an experienced business attorney who has worked in the oil and gas and healthcare industries. \nGovernor Greg Abbott has praised Brooks for his “tireless efforts” in the Texas Legislature\, calling him “a proven conservative leader and a strong voice for the people of West Texas.” \nA Permian High School alum\, Brooks graduated from Texas A&M University\, where he received U.S. Army training in the Corps of Cadets. Landgraf then earned his law degree from the St. Mary’s School of Law in San Antonio\, where he also served as the editor-in-chief of the law review. \nBrooks is a proud Eagle Scout and is dedicated to serving the state and community that have given him so many opportunities. Following law school\, Brooks immediately returned home to West Texas and represented energy producers and other local businesses while working in private practice. Brooks was named volunteer of the year by Legal Aid for his pro bono efforts. In 2017\, Brooks was named to the inaugural class of “Odessa Under 40” by the Young Professionals of Odessa. \nBrooks and his wife\, Shelby\, whose family is from Andrews\, have one daughter\, Hollis Rose\, and are proud to call West Texas their home. They enjoy volunteering together for local charities\, and the family loves spending time together working on the family cattle ranch. They attend church at St. Elizabeth Ann Seton in Odessa.
URL:https://ngspb.com/event/ngspb-october-luncheon-3/
LOCATION:Midland Petroleum Club\, 501 W Wall St\, Midland\, TX\, 79701\, United States
END:VEVENT
END:VCALENDAR