BEGIN:VCALENDAR
VERSION:2.0
PRODID:-//NGSPB – Natural Gas Society of the Permian Basin - ECPv6.15.20//NONSGML v1.0//EN
CALSCALE:GREGORIAN
METHOD:PUBLISH
X-WR-CALNAME:NGSPB – Natural Gas Society of the Permian Basin
X-ORIGINAL-URL:https://ngspb.com
X-WR-CALDESC:Events for NGSPB – Natural Gas Society of the Permian Basin
REFRESH-INTERVAL;VALUE=DURATION:PT1H
X-Robots-Tag:noindex
X-PUBLISHED-TTL:PT1H
BEGIN:VTIMEZONE
TZID:America/Chicago
BEGIN:DAYLIGHT
TZOFFSETFROM:-0600
TZOFFSETTO:-0500
TZNAME:CDT
DTSTART:20190310T080000
END:DAYLIGHT
BEGIN:STANDARD
TZOFFSETFROM:-0500
TZOFFSETTO:-0600
TZNAME:CST
DTSTART:20191103T070000
END:STANDARD
BEGIN:DAYLIGHT
TZOFFSETFROM:-0600
TZOFFSETTO:-0500
TZNAME:CDT
DTSTART:20200308T080000
END:DAYLIGHT
BEGIN:STANDARD
TZOFFSETFROM:-0500
TZOFFSETTO:-0600
TZNAME:CST
DTSTART:20201101T070000
END:STANDARD
BEGIN:DAYLIGHT
TZOFFSETFROM:-0600
TZOFFSETTO:-0500
TZNAME:CDT
DTSTART:20210314T080000
END:DAYLIGHT
BEGIN:STANDARD
TZOFFSETFROM:-0500
TZOFFSETTO:-0600
TZNAME:CST
DTSTART:20211107T070000
END:STANDARD
END:VTIMEZONE
BEGIN:VEVENT
DTSTART;TZID=America/Chicago:20201208T183000
DTEND;TZID=America/Chicago:20201208T213000
DTSTAMP:20260420T122510
CREATED:20201118T195238Z
LAST-MODIFIED:20201207T230239Z
UID:13468-1607452200-1607463000@ngspb.com
SUMMARY:NGSPB - Christmas Party
DESCRIPTION:Please join NGSPB for the annual Christmas Party Tuesday\, December 8th\, at Tall City Brewery. Admission includes a boxed dinner by Midland Meat Company\, two beverage tickets\, small tours of the brewery\, raffle items and rock’n Christmas music. \n\nDate: Tuesday\, December 8th\nTime: 6:30 – 9:30 PM\nLocation: Tall City Brewery\nCost: $60 for members and $60 for guests (credit cards and cash accepted)\nRSVP: info@ngspb.com or through the website – YOU MUST RSVP by DECEMBER 2nd\, so that we can arrange for the appropriate amount of meals\n(Include your choice of Smoked Wagyu Brisket\, Smoked Turkey or Vegetarian)\nDress Code: Christmas Casual\n\nFor additional questions about the event\, please email info@ngspb.com and mlechtenberg@navitas-midstream.com. In addition\, we are looking for sponsors for our event. Every sponsor will have their logo prominently displayed at the event and mentioned throughout the evening. Please see below for our numerous sponsorship opportunities. \nSponsorship Type                 Amount \nSanta Clause – Title Sponsor           $1500 \n  \n  \nElf on the Shelf                             $250 \n  \nIn-Kind Raffle items – Please donate items for our raffle!    \nCompany name mentioned during the raffle for the item\, and listed on the sign at the entrance.
URL:https://ngspb.com/event/ngspb-christmas-party-4/
LOCATION:Tall City Brewery\, 3303 W. Golf Course Road\, Midland\, TX\, 79703\, United States
END:VEVENT
END:VCALENDAR