BEGIN:VCALENDAR
VERSION:2.0
PRODID:-//NGSPB – Natural Gas Society of the Permian Basin - ECPv6.15.20//NONSGML v1.0//EN
CALSCALE:GREGORIAN
METHOD:PUBLISH
X-ORIGINAL-URL:https://ngspb.com
X-WR-CALDESC:Events for NGSPB – Natural Gas Society of the Permian Basin
REFRESH-INTERVAL;VALUE=DURATION:PT1H
X-Robots-Tag:noindex
X-PUBLISHED-TTL:PT1H
BEGIN:VTIMEZONE
TZID:America/Chicago
BEGIN:DAYLIGHT
TZOFFSETFROM:-0600
TZOFFSETTO:-0500
TZNAME:CDT
DTSTART:20200308T080000
END:DAYLIGHT
BEGIN:STANDARD
TZOFFSETFROM:-0500
TZOFFSETTO:-0600
TZNAME:CST
DTSTART:20201101T070000
END:STANDARD
BEGIN:DAYLIGHT
TZOFFSETFROM:-0600
TZOFFSETTO:-0500
TZNAME:CDT
DTSTART:20210314T080000
END:DAYLIGHT
BEGIN:STANDARD
TZOFFSETFROM:-0500
TZOFFSETTO:-0600
TZNAME:CST
DTSTART:20211107T070000
END:STANDARD
BEGIN:DAYLIGHT
TZOFFSETFROM:-0600
TZOFFSETTO:-0500
TZNAME:CDT
DTSTART:20220313T080000
END:DAYLIGHT
BEGIN:STANDARD
TZOFFSETFROM:-0500
TZOFFSETTO:-0600
TZNAME:CST
DTSTART:20221106T070000
END:STANDARD
END:VTIMEZONE
BEGIN:VEVENT
DTSTART;TZID=America/Chicago:20210622T113000
DTEND;TZID=America/Chicago:20210622T130000
DTSTAMP:20260419T230846
CREATED:20210603T165320Z
LAST-MODIFIED:20210603T165320Z
UID:18276-1624361400-1624366800@ngspb.com
SUMMARY:NGSPB - June Luncheon
DESCRIPTION:NGSPB hosts Robert Ward\, Director of Business Development at Ward Business Development & Consulting. Mr. Ward will focus on the emerging technologies in the industry and methane mitigation efforts. \n\nDate: Tuesday\, June 22nd\nTime: 11:30am – 1:00pm\nLocation: Midland Petroleum Club\, Wildcatter Room\nSpeaker: Robert Ward\, Ward Business Development & Consulting\nCost: $35 members and $40 for guests (credit cards and cash accepted)\nRSVP to info@ngspb.comor through the website https://ngspb.com/events/.\n\n  \nBio – Robert Ward \nA native of Texas\, Robert has been part of the oil & gas industry for almost 30 years focusing on problem solving and various technology initiatives in the realm of measurement operations\, production optimization\, enterprise SCADA\, telemetry\, and connectivity.  He spent 15 years in automation where he helped launch and pioneer the adoption of Control Microsystems’ SCADAPack\, Accutech Wireless\, and ClearSCADA.  Shortly after being acquired by Schneider Electric\, Robert several years in the Middle East\, India\, and Latin America launching Oleumtech into those new regions.  In May 2017 Robert formed Ward Business Development & Consulting (Ward BDC) where he has been working with progressive Oil & Gas operators and service companies to chart a path of innovation adoption with new pervasive sensing technologies\, Edge compute\, field connectivity\, and problematic WiFi deployments in hazardous locations. \nWith industry emphasis shifting towards Responsibly Sourced\, or Certified Gas\, and more specifically continuous methane monitoring\, Robert has partnered with Kuva Systems to address the market with a low cost\, visual\, continuous methane & VOC monitoring technology. \n 
URL:https://ngspb.com/event/ngspb-june-luncheon-2/
LOCATION:Midland Petroleum Club\, 501 W Wall St\, Midland\, TX\, 79701\, United States
END:VEVENT
END:VCALENDAR