BEGIN:VCALENDAR
VERSION:2.0
PRODID:-//NGSPB – Natural Gas Society of the Permian Basin - ECPv6.15.20//NONSGML v1.0//EN
CALSCALE:GREGORIAN
METHOD:PUBLISH
X-ORIGINAL-URL:https://ngspb.com
X-WR-CALDESC:Events for NGSPB – Natural Gas Society of the Permian Basin
REFRESH-INTERVAL;VALUE=DURATION:PT1H
X-Robots-Tag:noindex
X-PUBLISHED-TTL:PT1H
BEGIN:VTIMEZONE
TZID:America/Chicago
BEGIN:DAYLIGHT
TZOFFSETFROM:-0600
TZOFFSETTO:-0500
TZNAME:CDT
DTSTART:20210314T080000
END:DAYLIGHT
BEGIN:STANDARD
TZOFFSETFROM:-0500
TZOFFSETTO:-0600
TZNAME:CST
DTSTART:20211107T070000
END:STANDARD
BEGIN:DAYLIGHT
TZOFFSETFROM:-0600
TZOFFSETTO:-0500
TZNAME:CDT
DTSTART:20220313T080000
END:DAYLIGHT
BEGIN:STANDARD
TZOFFSETFROM:-0500
TZOFFSETTO:-0600
TZNAME:CST
DTSTART:20221106T070000
END:STANDARD
BEGIN:DAYLIGHT
TZOFFSETFROM:-0600
TZOFFSETTO:-0500
TZNAME:CDT
DTSTART:20230312T080000
END:DAYLIGHT
BEGIN:STANDARD
TZOFFSETFROM:-0500
TZOFFSETTO:-0600
TZNAME:CST
DTSTART:20231105T070000
END:STANDARD
END:VTIMEZONE
BEGIN:VEVENT
DTSTART;TZID=America/Chicago:20220524T133000
DTEND;TZID=America/Chicago:20220524T160000
DTSTAMP:20260419T074635
CREATED:20220328T025407Z
LAST-MODIFIED:20220520T203437Z
UID:25462-1653399000-1653408000@ngspb.com
SUMMARY:NGSPB - Scholarship Golf Tournament
DESCRIPTION:NGSPB would like to announce its open enrollment for the annual NGSPB Scholarship Golf Tournament.  The shotgun-start\, four-man scramble tournament begins at 1:30 PM. Lunch and prizes will be awarded immediately following play. \nPlease complete the registration form by May 20\, 2022. Payment can be made at the door or through the website. The link to the sponsorship form outlines all of our sponsorship opportunities\, which can be paid online upon request. Please address all questions and inquiries to etaunton@caballolocomidstream.com and cc naturalgassocietypb@gmail.com. \nRegistration begins at 12:15 PM and the entry fee per player is $150.
URL:https://ngspb.com/event/ngspb-scholarship-golf-tournament-5/
LOCATION:Ranchland Hills Golf Club\, 1600 E Wadley Ave\, Midland\, TX\, 79705\, United States
END:VEVENT
END:VCALENDAR