BEGIN:VCALENDAR
VERSION:2.0
PRODID:-//NGSPB – Natural Gas Society of the Permian Basin - ECPv6.15.20//NONSGML v1.0//EN
CALSCALE:GREGORIAN
METHOD:PUBLISH
X-WR-CALNAME:NGSPB – Natural Gas Society of the Permian Basin
X-ORIGINAL-URL:https://ngspb.com
X-WR-CALDESC:Events for NGSPB – Natural Gas Society of the Permian Basin
REFRESH-INTERVAL;VALUE=DURATION:PT1H
X-Robots-Tag:noindex
X-PUBLISHED-TTL:PT1H
BEGIN:VTIMEZONE
TZID:America/Chicago
BEGIN:DAYLIGHT
TZOFFSETFROM:-0600
TZOFFSETTO:-0500
TZNAME:CDT
DTSTART:20160313T080000
END:DAYLIGHT
BEGIN:STANDARD
TZOFFSETFROM:-0500
TZOFFSETTO:-0600
TZNAME:CST
DTSTART:20161106T070000
END:STANDARD
BEGIN:DAYLIGHT
TZOFFSETFROM:-0600
TZOFFSETTO:-0500
TZNAME:CDT
DTSTART:20170312T080000
END:DAYLIGHT
BEGIN:STANDARD
TZOFFSETFROM:-0500
TZOFFSETTO:-0600
TZNAME:CST
DTSTART:20171105T070000
END:STANDARD
BEGIN:DAYLIGHT
TZOFFSETFROM:-0600
TZOFFSETTO:-0500
TZNAME:CDT
DTSTART:20180311T080000
END:DAYLIGHT
BEGIN:STANDARD
TZOFFSETFROM:-0500
TZOFFSETTO:-0600
TZNAME:CST
DTSTART:20181104T070000
END:STANDARD
END:VTIMEZONE
BEGIN:VEVENT
DTSTART;TZID=America/Chicago:20170517T073000
DTEND;TZID=America/Chicago:20170517T140000
DTSTAMP:20260423T054940
CREATED:20161205T155038Z
LAST-MODIFIED:20170227T161204Z
UID:221-1495006200-1495029600@ngspb.com
SUMMARY:NGSPB Annual Golf Tournament
DESCRIPTION:Join the NGSPB for our annual golf tournament to raise scholarship funds benefiting Permian Basin high school graduates. The shotgun-start and four-man scramble tournament begins at 8:30 AM. Lunch and prizes will be awarded immediately following play. \nPlease complete the registration form by Friday May 12\, 2017. Payment can be made through the online portal below or at the door. \nRegistration begins at 7:30 AM and the entry fee per player is $150. Be sure to check out the available sponsorship opportunities listed below. \n\n\n\nSponsorship Type\nAmount\n\n\nLunch Sponsor\n$1\,200 \n\n\nCart Sponsor\n$750 \n\n\nPutting Contest\n$500 \n\n\nLongest Drive\n$250 \n\n\nClosest to the Pin Sponsor\n$250 \n\n\nHole Sponsor\n$200
URL:https://ngspb.com/event/ngspb-annual-golf-tournament/
LOCATION:Ranchland Hills Golf Club\, 1600 E Wadley Ave\, Midland\, TX\, 79705\, United States
END:VEVENT
END:VCALENDAR