BEGIN:VCALENDAR
VERSION:2.0
PRODID:-//NGSPB – Natural Gas Society of the Permian Basin - ECPv6.15.20//NONSGML v1.0//EN
CALSCALE:GREGORIAN
METHOD:PUBLISH
X-WR-CALNAME:NGSPB – Natural Gas Society of the Permian Basin
X-ORIGINAL-URL:https://ngspb.com
X-WR-CALDESC:Events for NGSPB – Natural Gas Society of the Permian Basin
REFRESH-INTERVAL;VALUE=DURATION:PT1H
X-Robots-Tag:noindex
X-PUBLISHED-TTL:PT1H
BEGIN:VTIMEZONE
TZID:America/Chicago
BEGIN:DAYLIGHT
TZOFFSETFROM:-0600
TZOFFSETTO:-0500
TZNAME:CDT
DTSTART:20160313T080000
END:DAYLIGHT
BEGIN:STANDARD
TZOFFSETFROM:-0500
TZOFFSETTO:-0600
TZNAME:CST
DTSTART:20161106T070000
END:STANDARD
BEGIN:DAYLIGHT
TZOFFSETFROM:-0600
TZOFFSETTO:-0500
TZNAME:CDT
DTSTART:20170312T080000
END:DAYLIGHT
BEGIN:STANDARD
TZOFFSETFROM:-0500
TZOFFSETTO:-0600
TZNAME:CST
DTSTART:20171105T070000
END:STANDARD
BEGIN:DAYLIGHT
TZOFFSETFROM:-0600
TZOFFSETTO:-0500
TZNAME:CDT
DTSTART:20180311T080000
END:DAYLIGHT
BEGIN:STANDARD
TZOFFSETFROM:-0500
TZOFFSETTO:-0600
TZNAME:CST
DTSTART:20181104T070000
END:STANDARD
END:VTIMEZONE
BEGIN:VEVENT
DTSTART;TZID=America/Chicago:20171211T180000
DTEND;TZID=America/Chicago:20171211T230000
DTSTAMP:20260422T171858
CREATED:20171018T233714Z
LAST-MODIFIED:20171119T111341Z
UID:1454-1513015200-1513033200@ngspb.com
SUMMARY:NGSPB - Christmas Party
DESCRIPTION:Please join NGSPB for our annual Christmas Party on Monday\, December 11th at 6:00 pm. Admission includes dinner\, two beverage tickets\, casino style gaming\, raffle items and rock’n Christmas music. \nDate: Monday\, December 11th \nTime: 6:00pm – 11:00 pm \nLocation: Midland Petroleum Club \nCost: $60 for members and $60 for guests (credit cards and cash accepted) \nRSVP to info@ngspb.com or through the website. \nTickets are $60 per person\, and all are welcome to attend\, i.e.  members are encouraged to invite guests.    The dress code for the evening is Christmas Casual\, or other festive Christmas attire.    If your Elf outfit is at the cleaners\, business casual will suffice.    We are looking for sponsors for our event.   Every sponsor will have their logo prominently displayed at the event and mentioned throughout the evening. Please see below for our numerous sponsorship opportunities. \nSponsorship Type                 Amount \nSanta Clause – High Roller           $1500 \nIncludes a bonus of 100% more chips than every other player will receive (for 2 people) and will feature a banner with your company logo behind the casino games. \nDinner Table(s)                                $250 \nCompany Logo prominently displayed on the table(s) \nMistle Toe                                          $100 \nCompany name listed on sign at the entrance of the party and mentioned throughout the evening \nIn-Kind Raffle items – Please donate items for our raffle!   \nCompany name mentioned during the raffle for the item\, and listed on the sign at the entrance.
URL:https://ngspb.com/event/ngspb-christmas-party/
LOCATION:Midland Petroleum Club\, 501 W Wall St\, Midland\, TX\, 79701\, United States
END:VEVENT
END:VCALENDAR