BEGIN:VCALENDAR
VERSION:2.0
PRODID:-//NGSPB – Natural Gas Society of the Permian Basin - ECPv6.15.20//NONSGML v1.0//EN
CALSCALE:GREGORIAN
METHOD:PUBLISH
X-ORIGINAL-URL:https://ngspb.com
X-WR-CALDESC:Events for NGSPB – Natural Gas Society of the Permian Basin
REFRESH-INTERVAL;VALUE=DURATION:PT1H
X-Robots-Tag:noindex
X-PUBLISHED-TTL:PT1H
BEGIN:VTIMEZONE
TZID:America/Chicago
BEGIN:DAYLIGHT
TZOFFSETFROM:-0600
TZOFFSETTO:-0500
TZNAME:CDT
DTSTART:20180311T080000
END:DAYLIGHT
BEGIN:STANDARD
TZOFFSETFROM:-0500
TZOFFSETTO:-0600
TZNAME:CST
DTSTART:20181104T070000
END:STANDARD
BEGIN:DAYLIGHT
TZOFFSETFROM:-0600
TZOFFSETTO:-0500
TZNAME:CDT
DTSTART:20190310T080000
END:DAYLIGHT
BEGIN:STANDARD
TZOFFSETFROM:-0500
TZOFFSETTO:-0600
TZNAME:CST
DTSTART:20191103T070000
END:STANDARD
BEGIN:DAYLIGHT
TZOFFSETFROM:-0600
TZOFFSETTO:-0500
TZNAME:CDT
DTSTART:20200308T080000
END:DAYLIGHT
BEGIN:STANDARD
TZOFFSETFROM:-0500
TZOFFSETTO:-0600
TZNAME:CST
DTSTART:20201101T070000
END:STANDARD
END:VTIMEZONE
BEGIN:VEVENT
DTSTART;TZID=America/Chicago:20190108T080000
DTEND;TZID=America/Chicago:20190108T170000
DTSTAMP:20260421T220951
CREATED:20181106T043843Z
LAST-MODIFIED:20181106T043843Z
UID:2276-1546934400-1546966800@ngspb.com
SUMMARY:NGSPB - January Luncheon
DESCRIPTION:NGSPB hosts special guest speaker Dr. Jim Duncan\, Chief Data Strategist and Director of Market Research at ConocoPhillips. Dr. Duncan will talk about market fundamentals and the commodity price horizon for Permian operators. We hope you will be able to join us! \nDate: Tuesday\, January 8th \nTime: 11:30am – 1:00pm \nLocation: Midland Petroleum Club \nSpeaker: Dr. Jim Duncan \nCost: $35 members and $40 for guests (credit cards and cash accepted) \nRSVP to info@ngspb.com or through the website. \nBio – Dr. Jim Duncan \nJames Duncan is responsible for developing customized financial market strategies utilizing a myriad of public and private data sets for both ConocoPhillips and its customers. Ever changing global markets require a dynamic mix of derived data driven mathematical modeling\, fundamental and technical analysis\, and a matching global network of intelligence to monitor financial markets. Using a unique blend of quantitative and observational skill\, his team continually evaluates all facets of the market to optimize asset values and manage risk. \nIn addition to 15 years as a trading economist building teams that monitor and predict financial market shifts for two Fortune 500 companies\, Dr. Duncan has 30 years experience in engineering\, science and the arts. He spent his first 20 years in the industry as an engineering manager in process design and process troubleshooting\, where he designed and built patented petrochemical processes before returning to teach as an Assistant Professor of Chemistry. In 1998\, Wall Street came knocking during a period when classical scientists were being hired to design and build the financial models; giving a new eye and applying new methodologies to business acumen. \nA popular speaker within the natural gas industry\, Dr. Duncan has spoken to audiences in several countries and across the continent and across many different sectors. His broad background and experience in troubleshooting problems has led to a wealth of solution-based strategies. \n 
URL:https://ngspb.com/event/ngspb-january-luncheon-2/
LOCATION:Midland Petroleum Club\, 501 W Wall St\, Midland\, TX\, 79701\, United States
END:VEVENT
END:VCALENDAR