BEGIN:VCALENDAR
VERSION:2.0
PRODID:-//NGSPB – Natural Gas Society of the Permian Basin - ECPv6.15.20//NONSGML v1.0//EN
CALSCALE:GREGORIAN
METHOD:PUBLISH
X-WR-CALNAME:NGSPB – Natural Gas Society of the Permian Basin
X-ORIGINAL-URL:https://ngspb.com
X-WR-CALDESC:Events for NGSPB – Natural Gas Society of the Permian Basin
REFRESH-INTERVAL;VALUE=DURATION:PT1H
X-Robots-Tag:noindex
X-PUBLISHED-TTL:PT1H
BEGIN:VTIMEZONE
TZID:America/Chicago
BEGIN:DAYLIGHT
TZOFFSETFROM:-0600
TZOFFSETTO:-0500
TZNAME:CDT
DTSTART:20180311T080000
END:DAYLIGHT
BEGIN:STANDARD
TZOFFSETFROM:-0500
TZOFFSETTO:-0600
TZNAME:CST
DTSTART:20181104T070000
END:STANDARD
BEGIN:DAYLIGHT
TZOFFSETFROM:-0600
TZOFFSETTO:-0500
TZNAME:CDT
DTSTART:20190310T080000
END:DAYLIGHT
BEGIN:STANDARD
TZOFFSETFROM:-0500
TZOFFSETTO:-0600
TZNAME:CST
DTSTART:20191103T070000
END:STANDARD
BEGIN:DAYLIGHT
TZOFFSETFROM:-0600
TZOFFSETTO:-0500
TZNAME:CDT
DTSTART:20200308T080000
END:DAYLIGHT
BEGIN:STANDARD
TZOFFSETFROM:-0500
TZOFFSETTO:-0600
TZNAME:CST
DTSTART:20201101T070000
END:STANDARD
END:VTIMEZONE
BEGIN:VEVENT
DTSTART;TZID=America/Chicago:20190212T113000
DTEND;TZID=America/Chicago:20190212T130000
DTSTAMP:20260421T191639
CREATED:20190131T000214Z
LAST-MODIFIED:20190204T173150Z
UID:2486-1549971000-1549976400@ngspb.com
SUMMARY:NGSPB - February Luncheon
DESCRIPTION:NGSPB hosts special guest speaker Andy Deck\, President of Reliance Midstream. Mr. Deck will give insight into market trends surrounding Reliance’s Midland Basin crude asset. We hope you will be able to join us! \nDate: Tuesday\, February 12th \nTime: 11:30am – 1:00pm \nLocation: Midland Petroleum Club \nSpeaker: Andy Deck \nCost: $35 members and $40 for guests (credit cards and cash accepted) \nRSVP to info@ngspb.com or through the website. \nBio – Andy Deck  \nAndrew A. Deck is President of Reliance Midstream here in Midland\, Texas. He previously served as Senior Vice President of the Permian Basin for EnLink Midstream. He was the Coronado Midstream LLC’s Chief Executive Officer until the company was acquired by EnLink in 2015. Prior to Coronado\, Mr. Deck served in a variety of engineering\, management\, and commercial roles at Enogex LLC in Oklahoma City\, and worked for Renovar Energy Corp.\, a renewable energy company headquartered in Midland\, Texas\, as Vice President. He has experience in engineering and domestic and international project management. \nMr. Deck received a Bachelor of Science in Chemical Engineering from Oklahoma State University. Andy and his wife\, Becky\, have two sons – Zack and Caleb. Andy serves as an elder of Stonegate Fellowship Church\, on the Industrial Advisory Committee for the School of Chemical Engineering at Oklahoma State University\, and on the board of MarketPlace Midland. \n 
URL:https://ngspb.com/event/ngspb-february-luncheon-2/
LOCATION:Midland Petroleum Club\, 501 W Wall St\, Midland\, TX\, 79701\, United States
END:VEVENT
END:VCALENDAR