BEGIN:VCALENDAR
VERSION:2.0
PRODID:-//NGSPB – Natural Gas Society of the Permian Basin - ECPv6.15.20//NONSGML v1.0//EN
CALSCALE:GREGORIAN
METHOD:PUBLISH
X-WR-CALNAME:NGSPB – Natural Gas Society of the Permian Basin
X-ORIGINAL-URL:https://ngspb.com
X-WR-CALDESC:Events for NGSPB – Natural Gas Society of the Permian Basin
REFRESH-INTERVAL;VALUE=DURATION:PT1H
X-Robots-Tag:noindex
X-PUBLISHED-TTL:PT1H
BEGIN:VTIMEZONE
TZID:America/Chicago
BEGIN:DAYLIGHT
TZOFFSETFROM:-0600
TZOFFSETTO:-0500
TZNAME:CDT
DTSTART:20180311T080000
END:DAYLIGHT
BEGIN:STANDARD
TZOFFSETFROM:-0500
TZOFFSETTO:-0600
TZNAME:CST
DTSTART:20181104T070000
END:STANDARD
BEGIN:DAYLIGHT
TZOFFSETFROM:-0600
TZOFFSETTO:-0500
TZNAME:CDT
DTSTART:20190310T080000
END:DAYLIGHT
BEGIN:STANDARD
TZOFFSETFROM:-0500
TZOFFSETTO:-0600
TZNAME:CST
DTSTART:20191103T070000
END:STANDARD
BEGIN:DAYLIGHT
TZOFFSETFROM:-0600
TZOFFSETTO:-0500
TZNAME:CDT
DTSTART:20200308T080000
END:DAYLIGHT
BEGIN:STANDARD
TZOFFSETFROM:-0500
TZOFFSETTO:-0600
TZNAME:CST
DTSTART:20201101T070000
END:STANDARD
END:VTIMEZONE
BEGIN:VEVENT
DTSTART;TZID=America/Chicago:20190409T113000
DTEND;TZID=America/Chicago:20190409T130000
DTSTAMP:20260421T161249
CREATED:20190131T002317Z
LAST-MODIFIED:20190204T174753Z
UID:2490-1554809400-1554814800@ngspb.com
SUMMARY:NGSPB - April Luncheon
DESCRIPTION:NGSPB hosts special guest speaker Guy McCrary\, President and CEO of the Permian Basin Area Foundation. Mr. McCrary will speak about the pivotal role the Permian Basin Area Foundation plays in the community\, and the impact the robust economic growth has had on the Permian Basin. \nDate: Tuesday\, April 9th \nTime: 11:30am – 1:00pm \nLocation: Midland Petroleum Club \nSpeaker: Guy McCrary \nCost: $35 members and $40 for guests (credit cards and cash accepted) \nRSVP to info@ngspb.com or through the website. \nBio – Guy McCrary \nMcCrary has served as the foundation’s vice president and chief operating officer since 2001. He earned a bachelor’s degree from Texas A& M University and a master’s degree from the University of Central Texas. \nMcCrary came to Midland in 1979 and has been active in various civic and community activities. Among them include serving as Precinct 2 Commissioner from 1987 to 1998. McCrary has also served in the U.S. Army from 1975 to 1979 and since living in Midland has worked in banking\, real estate\, oil and gas\, marketing and management consulting.
URL:https://ngspb.com/event/ngspb-april-luncheon-2/
LOCATION:Midland Petroleum Club\, 501 W Wall St\, Midland\, TX\, 79701\, United States
END:VEVENT
END:VCALENDAR