BEGIN:VCALENDAR
VERSION:2.0
PRODID:-//NGSPB – Natural Gas Society of the Permian Basin - ECPv6.15.20//NONSGML v1.0//EN
CALSCALE:GREGORIAN
METHOD:PUBLISH
X-ORIGINAL-URL:https://ngspb.com
X-WR-CALDESC:Events for NGSPB – Natural Gas Society of the Permian Basin
REFRESH-INTERVAL;VALUE=DURATION:PT1H
X-Robots-Tag:noindex
X-PUBLISHED-TTL:PT1H
BEGIN:VTIMEZONE
TZID:America/Chicago
BEGIN:DAYLIGHT
TZOFFSETFROM:-0600
TZOFFSETTO:-0500
TZNAME:CDT
DTSTART:20180311T080000
END:DAYLIGHT
BEGIN:STANDARD
TZOFFSETFROM:-0500
TZOFFSETTO:-0600
TZNAME:CST
DTSTART:20181104T070000
END:STANDARD
BEGIN:DAYLIGHT
TZOFFSETFROM:-0600
TZOFFSETTO:-0500
TZNAME:CDT
DTSTART:20190310T080000
END:DAYLIGHT
BEGIN:STANDARD
TZOFFSETFROM:-0500
TZOFFSETTO:-0600
TZNAME:CST
DTSTART:20191103T070000
END:STANDARD
BEGIN:DAYLIGHT
TZOFFSETFROM:-0600
TZOFFSETTO:-0500
TZNAME:CDT
DTSTART:20200308T080000
END:DAYLIGHT
BEGIN:STANDARD
TZOFFSETFROM:-0500
TZOFFSETTO:-0600
TZNAME:CST
DTSTART:20201101T070000
END:STANDARD
END:VTIMEZONE
BEGIN:VEVENT
DTSTART;TZID=America/Chicago:20191209T183000
DTEND;TZID=America/Chicago:20191209T210000
DTSTAMP:20260421T033437
CREATED:20191104T030453Z
LAST-MODIFIED:20191115T034124Z
UID:4371-1575916200-1575925200@ngspb.com
SUMMARY:NGSPB - Christmas Party
DESCRIPTION:NGSPB will host its annual Christmas Party Monday December 9th from 6:30 pm to 9:00 pm at the Midland Petroleum Club. Tickets are $60 per person\, and all are welcome to attend\, i.e.  members are encouraged to invite guests.    The dress code for the evening is Christmas Casual\, or other festive Christmas attire.   If your Elf outfit is at the cleaners\, business casual will suffice. Please RSVP to info@ngspb.com. \nThere will be prizes awarded associated with the games and the photo wall.  For the photo wall\, there are three categories: \n\nMost festive holiday attire\nBest looking couple or group\nFunniest picture of the night\n\nWe are looking for sponsors for our event.   Every sponsor will have their logo prominently displayed at the event and mentioned throughout the evening. Please see below for our numerous sponsorship opportunities.   All sponsorship information must be provided no later than November 28\, 2018. Please email info@ngspb.com and mlechtenberg@navitas-midstream.com to inquiries about sponsoring the event. \nSponsorship Type                 Amount \nSanta Clause – High Roller           $1500 \nIncludes a bonus of 100% more chips than every other player will receive (for 2 people) and will feature a banner with your company logo behind the casino games. \n  \nDinner Table(s)                                $250 \nCompany Logo prominently displayed on the table(s) \n  \nMistle Toe                                          $100 \nCompany name listed on sign at the entrance of the party and mentioned throughout the evening \n  \nIn-Kind Raffle items – Please donate items for our raffle!    \nCompany name mentioned during the raffle for the item\, and listed on the sign at the entrance.
URL:https://ngspb.com/event/ngspb-christmas-party-3/
LOCATION:Midland Petroleum Club\, 501 W Wall St\, Midland\, TX\, 79701\, United States
END:VEVENT
END:VCALENDAR