BEGIN:VCALENDAR
VERSION:2.0
PRODID:-//NGSPB – Natural Gas Society of the Permian Basin - ECPv6.15.20//NONSGML v1.0//EN
CALSCALE:GREGORIAN
METHOD:PUBLISH
X-WR-CALNAME:NGSPB – Natural Gas Society of the Permian Basin
X-ORIGINAL-URL:https://ngspb.com
X-WR-CALDESC:Events for NGSPB – Natural Gas Society of the Permian Basin
REFRESH-INTERVAL;VALUE=DURATION:PT1H
X-Robots-Tag:noindex
X-PUBLISHED-TTL:PT1H
BEGIN:VTIMEZONE
TZID:America/Chicago
BEGIN:DAYLIGHT
TZOFFSETFROM:-0600
TZOFFSETTO:-0500
TZNAME:CDT
DTSTART:20210314T080000
END:DAYLIGHT
BEGIN:STANDARD
TZOFFSETFROM:-0500
TZOFFSETTO:-0600
TZNAME:CST
DTSTART:20211107T070000
END:STANDARD
BEGIN:DAYLIGHT
TZOFFSETFROM:-0600
TZOFFSETTO:-0500
TZNAME:CDT
DTSTART:20220313T080000
END:DAYLIGHT
BEGIN:STANDARD
TZOFFSETFROM:-0500
TZOFFSETTO:-0600
TZNAME:CST
DTSTART:20221106T070000
END:STANDARD
BEGIN:DAYLIGHT
TZOFFSETFROM:-0600
TZOFFSETTO:-0500
TZNAME:CDT
DTSTART:20230312T080000
END:DAYLIGHT
BEGIN:STANDARD
TZOFFSETFROM:-0500
TZOFFSETTO:-0600
TZNAME:CST
DTSTART:20231105T070000
END:STANDARD
END:VTIMEZONE
BEGIN:VEVENT
DTSTART;TZID=America/Chicago:20220315T113000
DTEND;TZID=America/Chicago:20220315T130000
DTSTAMP:20260419T090150
CREATED:20220301T212705Z
LAST-MODIFIED:20220301T212859Z
UID:24700-1647343800-1647349200@ngspb.com
SUMMARY:NGSPB - March Luncheon
DESCRIPTION:March Luncheon \nNGSPB hosts Texas Railroad Commision Chairman\, Wayne Christian \n\nDate: Tuesday\, March 15th\nTime: 11:30am – 1:00pm\nLocation: Ranchland Hills Golf Club\nSpeaker: Texas Railroad Commision Chairman\, Wayne Christian\nCost: $35 members and $40 for guests (credit cards and cash accepted)\nRSVP to info@ngspb.com or through the website https://ngspb.com/events/\n\nTexas Railroad Commission Chairman Wayne Christian Bio: \n“A lifelong conservative businessman\, Wayne Christian was elected as our 50th Texas Railroad Commissioner in November 2016. \nSince taking office\, Commissioner Christian has been appointed by Governor Greg Abbott to the Interstate Oil and Gas Compact Commission (IOGCC) as the Official Representative of Texas. The IOGCC is one of the oldest and largest interstate compacts in the nation\, formed over 80 years ago when several states joined together to resolve common issues in the industry without federal intervention. \nChristian graduated from high school as valedictorian and went on to graduate from Stephen F. Austin State University with a B.B.A. in General Business in 1973. After college\, Christian found success in the music industry with his country/gospel band\, the Mercy River Boys and went on to be finalist for a Grammy Award in 1979. \nIn 1987\, after gaining valuable experience in business\, banking and real estate\, Wayne Christian opened a financial services business – he is a three time AIG top advisor nationwide. \nIn 1996\, Christian was elected to the House of Representatives as the first Republican elected from Deep East Texas since Reconstruction after the Civil War. During his time in the House\, Christian was a leader for the conservative renaissance in the State of Texas and successfully assisted in the fight to elect a Republican majority in the Texas Legislature. \nChristian served as Vice-Chair of Regulated Industries and as a multi-term member of the Energy Resource Committee. On these committees\, he had direct oversight of the Railroad Commission and accumulated a strong record of standing for free markets and against burdensome regulations. \nChristian will continue to fight to ensure the public is protected from bad actors and that all decisions are consistent and predictable to give a sense of certainty to the thousands of business owners and operators who regularly deal with the Railroad Commission. All regulations should be based on sound science and not speculation.”
URL:https://ngspb.com/event/ngspb-march-luncheon-5/
LOCATION:Ranchland Hills Golf Club\, 1600 E Wadley Ave\, Midland\, TX\, 79705\, United States
END:VEVENT
END:VCALENDAR