BEGIN:VCALENDAR
VERSION:2.0
PRODID:-//NGSPB – Natural Gas Society of the Permian Basin - ECPv6.15.20//NONSGML v1.0//EN
CALSCALE:GREGORIAN
METHOD:PUBLISH
X-ORIGINAL-URL:https://ngspb.com
X-WR-CALDESC:Events for NGSPB – Natural Gas Society of the Permian Basin
REFRESH-INTERVAL;VALUE=DURATION:PT1H
X-Robots-Tag:noindex
X-PUBLISHED-TTL:PT1H
BEGIN:VTIMEZONE
TZID:America/Chicago
BEGIN:DAYLIGHT
TZOFFSETFROM:-0600
TZOFFSETTO:-0500
TZNAME:CDT
DTSTART:20210314T080000
END:DAYLIGHT
BEGIN:STANDARD
TZOFFSETFROM:-0500
TZOFFSETTO:-0600
TZNAME:CST
DTSTART:20211107T070000
END:STANDARD
BEGIN:DAYLIGHT
TZOFFSETFROM:-0600
TZOFFSETTO:-0500
TZNAME:CDT
DTSTART:20220313T080000
END:DAYLIGHT
BEGIN:STANDARD
TZOFFSETFROM:-0500
TZOFFSETTO:-0600
TZNAME:CST
DTSTART:20221106T070000
END:STANDARD
BEGIN:DAYLIGHT
TZOFFSETFROM:-0600
TZOFFSETTO:-0500
TZNAME:CDT
DTSTART:20230312T080000
END:DAYLIGHT
BEGIN:STANDARD
TZOFFSETFROM:-0500
TZOFFSETTO:-0600
TZNAME:CST
DTSTART:20231105T070000
END:STANDARD
END:VTIMEZONE
BEGIN:VEVENT
DTSTART;TZID=America/Chicago:20220412T113000
DTEND;TZID=America/Chicago:20220412T130000
DTSTAMP:20260419T074636
CREATED:20220328T025104Z
LAST-MODIFIED:20220328T025104Z
UID:25458-1649763000-1649768400@ngspb.com
SUMMARY:NGSPB - April Luncheon
DESCRIPTION:The April Luncheon will be held on Tuesday April 12th at The Petroleum Club. Kristi Mills-Jurach\, P.E.\, the Assistant Director of the Office of Compliance and Energy\, and David Ramirez\, who serves the Board and Permian Basin Area Director\, will be the guest speakers discussing The Texas Commission on Environmental Quality’s current permitting process\, emissions event reviews and special projects being conducted in the Permian Basin. \n\nDate: Tuesday\, April 12th\nTime: 11:30am – 1:00pm\nLocation: Midland Petroleum Club\, Wildcatter Room\nSpeakers: Kristi Mills-Jurach\, P.E. and David Ramirez\n\n 
URL:https://ngspb.com/event/ngspb-april-luncheon-4/
LOCATION:Midland Petroleum Club\, 501 W Wall St\, Midland\, TX\, 79701\, United States
END:VEVENT
END:VCALENDAR